Workbook

Sheet PLAN DE ACCION RIESGOS IMCT
A1: CÓDIGO: GI-F-76 | C1: PLAN DE ACCIÓN DEL MAPA DE RIESGOS INSTITUCIONAL PARA EL AUTOCONTROL, MONITOREO Y EVALUACIÓN, ORIENTADO A MANTENER LOS RIESGOS BAJO CONTROL | S1: APLICACIÓN DE ESQUEMA DE AUTOCONTROL, MONITOREO Y EVALUACIÓN AL CUMPLIMIENTO DE LAS ACTIVIDADES PROGRAMADAS Y DE LOS CONTROLES ESTABLECIDOS, VERIFICANDO SU EJECUCIÓN, OPORTUNIDAD Y EFECTIVIDAD, CON EL FIN DE MANTENER LOS RIESGOS BAJO CONTROL.
A2: VERSIÓN: 01
A3: FA: 7/09/2026 | C3: GESTIÓN INTEGRAL - GI
A5: ENTIDAD: Instituto Municipal de Cultura y Turismo - IMCT
A6: FECHA APLICACIÓN: 31 DE AGOSTO DEL 2026
A8: PROGRAMACIÓN, SEGUIMIENTO Y VERIFICACIÓN DE LAS ACCIONES PARA MANTENER LOS RIESGOS BAJO CONTROL | S8: AUTOCONTROL – PRIMERA LÍNEA DE DEFENSA | AI8: MONITOREO – SEGUNDA LÍNEA DE DEFENSA | AU8: MEDICIÓN FINAL DEL INDICADOR – SEGUNDA LÍNEA | AZ8: EVALUACIÓN INDEPENDIENTE – CONTROL INTERNO
S9: MAYO – AGOSTO | AA9: SEPTIEMBRE A DICIEMBRE | AI9: MAYO – AGOSTO | AO9: SEPTIEMBRE A DICIEMBRE | AU9: Resultado consolidado de la ejecución reportada | AZ9: MAYO – AGOSTO | BE9: SEPTIEMBRE – DICIEMBRE
A10: N.º del riesgo en la matriz | B10: Proceso | C10: Riesgo | D10: No. Actividades | E10: N.º de acciones para mantener los riesgos bajo control en la matriz de riesgo | F10: Descripción de la acción | G10: Entregable / Producto | H10: Responsable de ejecución | I10: Fecha inicio | J10: Fecha de Finalización | K10: Seguimiento 1 (Fecha y avance) | L10: Seguimiento 2 (Fecha y avance) | M10: Seguimiento 3 ... (Fecha y avance) | N10: Verificación por parte de segunda línea de defensa o quien haga sus veces (Fecha y Descripción) | O10: Verificación por parte de la Oficina de Control Interno o quien haga sus veces (Fecha y Descripción) | P10: Periodicidad | Q10: Unidad de medida | R10: Meta de la acción | S10: Programado en el cuatrimestre | T10: Ejecutado | U10: Cumplimiento del periodo % | V10: Avance % | W10: Estado | X10: Descripción de la ejecución | Y10: Evidencia / soporte | Z10: Fecha de reporte | AA10: Programado en el cuatrimestre | AB10: Ejecutado | AC10: Cumplimiento del periodo % | AD10: acumulado % | AE10: Estado | AF10: Descripción de la ejecución | AG10: Evidencia / soporte | AH10: Fecha de reporte | AI10: Validación de evidencia | AJ10: Avance validado del cuatrimestre % | AK10: Resultado del monitoreo | AL10: Recomendación | AM10: Fecha monitoreo | AN10: Estado | AO10: Validación de evidencia | AP10: Avance validado del cuatrimestre % | AQ10: Observación / alerta | AR10: Recomendación | AS10: Fecha monitoreo | AT10: Estado validado | AU10: Indicador del riesgo | AV10: Fórmula / criterio de medición | AW10: Meta del indicador | AX10: Resultado acumulado del monitoreo y cumplimiento del indicador (%) | AY10: Estado del indicador | AZ10: Evaluación OCI | BA10: Resultado de evaluación | BB10: Efectividad de la acción | BC10: Observaciones / recomendaciones | BD10: Fecha evaluación | BE10: Evaluación OCI | BF10: Resultado de evaluación | BG10: Efectividad de la acción | BH10: Observaciones / recomendaciones | BI10: Fecha evaluación | BJ10: % de Avance Acumulativo
A11: R.1 | B11: 1. Direccionamiento Estratégico y Planeación | C11: Posibilidad de afectación reputacional por Falta de información verificada para el reporte, lo que impide la elaboración del seguimiento precisos y confiables, afectando la toma de decisiones y la transparencia en los procesos. a causa de Inexistencia de controles de calidad o validación de la información reportada de los informes en el contenido de los datos antes de integrarlos al reporte final consolidado del imct para el reporte correspondientes. | D11: 1 | E11: A1 | F11: 1. Realizar seguimiento permanente del plan de acción del avance fisico y financiero, para evaluar el cumplimiento de las acciones contempladas en el Plan de Acción, permitiendo medir con precisión su efectividad y avance. | G11: Matriz de seguimiento del Plan de Acción actualizada e informe consolidado de avance físico y financiero. | H11: Dirección | I11: 46032 | J11: 46387 | K11: 46142 | L11: 46264 | M11: 46386 | N11: 30/04/2026 31/08/2026 31/12/2026 | O11: 30/04/2026 31/08/2026 31/12/2026 | P11: Cuatrimestral | Q11: % | R11: 1 | S11: 0.005 | T11: 1 | U11: =IF(OR(S11="",S11=0,T11=""),"",MIN(T11/S11,1)) -> 1 | V11: =IF(OR(R11="",R11=0,T11=""),"",MIN(T11/R11,1)) -> 1 | W11: =IF(V11="","",IF(V11>=1,"Cumplida",IF(V11>0,"En ejecución","Pendiente"))) -> Cumplida | X11: Se realizo el seguimiento dentro de la matriz del plan de acción con la consolidación de los avances fisicos y financieros de mayo a julio consolidado | Y11: Matriz consolidada de mayoa a julio del plan de acción vigencia 2026. | Z11: 46274 | AA11: 0.005 | AC11: =IF(OR(AA11="",AA11=0,AB11=""),"",MIN(AB11/AA11,1)) | AD11: =IF(AB11<>"",IF(OR(R11="",R11=0),"",MIN(IF(V11="",0,V11)+(AB11/R11),1)),IF(V11<>"",V11,"")) -> 1 | AE11: =IF(AD11="","",IF(AD11>=1,"Cumplida",IF(AD11>0,"En ejecución","Pendiente"))) -> Cumplida | AI11: Validada | AJ11: 1 | AK11: Se evidenció el seguimiento dentro de la matriz del plan de acción con la consolidación de los avances fisicos y financieros de mayo a julio consolidado. Los soportes aportados son consistentes con lo reportado y permiten validar el 100% previsto para el corte. | AL11: Conservar la evidencia y continuar el seguimiento conforme a la periodicidad establecida. | AM11: 46286 | AN11: =IF(AJ11="","",IF(AJ11>=1,"Cumplida",IF(AJ11>0,"En ejecución","Pendiente"))) -> Cumplida | AT11: =IF(AP11="","",IF(AP11>=1,"Cumplida",IF(AP11>0,"En ejecución","Pendiente"))) | AU11: Cumplimiento del seguimiento al Plan de Acción | AV11: Resultado = suma del avance acumulado validado de todas las actividades del riesgo ÷ total de actividades programadas del riesgo. Cada actividad tiene el mismo peso. | AW11: 1 | AX11: =IF((COUNT(AJ11,AP11))=0,"",(MIN(SUM(AJ11,AP11),1))/1) -> 1 | AY11: =IF(AX11="","Sin medición",IF(AX11>=1,"Cumplido",IF(AX11>0,"En ejecución","Pendiente"))) -> Cumplido | AZ11: Se evidencia el Plan de Acción de la quince (15) Metas del Plan de Desarrollo observando los avances fisicos y financieros de mayo a julio de la vigencia 2026. | BA11: Cumple | BB11: Efectiva | BC11: Se recomienda que para el próximo seguimiento se adjunte el informe consolidado de avance físico y financiero y no únicamente la Matriz de seguimiento del Plan de Acción. Así mismo, se recomienda que los informes reportados de avance del Plan de Desarrollo estén debidamente avalados por el líder del proceso. | BD11: 46289 | BJ11: 0.6666
A12: R.2 | B12: 1. Direccionamiento Estratégico y Planeación | C12: Posibilidad de pérdida reputacional por Vencimiento de plazos o entrega extemporánea/incompleta de los reportes e información de seguimiento en las plataformas del DNP a causa de Falta de entrega en la fecha establecida para el reporte y cargue en la plataforma establecida por el DNP | D12: 2 | E12: A1 | F12: 1.Realizar el seguimiento dentro de la plataforma de la PIIP establecida por el DNP, en las fechas establecidas del avance fisicio y finanicero de los proyectos de inversióin del IMCT. | G12: Reporte de seguimiento registrado en la plataforma PIIP y soporte del registro efectuado. | H12: Dirección Subdirección Técnica | I12: 46032 | J12: 46387 | K12: 46142 | L12: 46264 | M12: 46386 | N12: 30/04/2026 31/08/2026 31/12/2026 | O12: 30/04/2026 31/08/2026 31/12/2026 | P12: Cuando aplique | Q12: % | R12: 1 | S12: 0.005 | T12: 1 | U12: =IF(OR(S12="",S12=0,T12=""),"",MIN(T12/S12,1)) -> 1 | V12: =IF(OR(R12="",R12=0,T12=""),"",MIN(T12/R12,1)) -> 1 | W12: =IF(V12="","",IF(V12>=1,"Cumplida",IF(V12>0,"En ejecución","Pendiente"))) -> Cumplida | X12: Se realizo el reporte de seguimientos dentro de la plataforma de la PIIP del DNP de los proyectos de inversión | Y12: Soporte del reporte en la plataforma de la PIIP de los proyectos de inversión de mayo a agosto | Z12: 46274 | AA12: 0.005 | AC12: =IF(OR(AA12="",AA12=0,AB12=""),"",MIN(AB12/AA12,1)) | AD12: =IF(AB12<>"",IF(OR(R12="",R12=0),"",MIN(IF(V12="",0,V12)+(AB12/R12),1)),IF(V12<>"",V12,"")) -> 1 | AE12: =IF(AD12="","",IF(AD12>=1,"Cumplida",IF(AD12>0,"En ejecución","Pendiente"))) -> Cumplida | AI12: Validada | AJ12: 1 | AK12: Se verificó el reporte de seguimientos dentro de la plataforma de la PIIP del DNP de los proyectos de inversión. Los soportes aportados son consistentes con lo reportado y permiten validar el 100% previsto para el corte. | AL12: Conservar la evidencia y continuar el seguimiento conforme a la periodicidad establecida. | AM12: 46286 | AN12: =IF(AJ12="","",IF(AJ12>=1,"Cumplida",IF(AJ12>0,"En ejecución","Pendiente"))) -> Cumplida | AT12: =IF(AP12="","",IF(AP12>=1,"Cumplida",IF(AP12>0,"En ejecución","Pendiente"))) | AU12: Cumplimiento del reporte de proyectos de inversión en PIIP | AV12: Resultado = suma del avance acumulado validado de todas las actividades del riesgo ÷ total de actividades programadas del riesgo. Cada actividad tiene el mismo peso. | AW12: 1 | AX12: =IF((COUNT(AJ12,AP12))=0,"",(MIN(SUM(AJ12,AP12),1))/1) -> 1 | AY12: =IF(AX12="","Sin medición",IF(AX12>=1,"Cumplido",IF(AX12>0,"En ejecución","Pendiente"))) -> Cumplido | AZ12: Se evidencian los reportes y avance de ejecución de los proyectos de Inversión en la plataforma Integrada de Inversión Pública del DNP | BA12: Cumple | BB12: Efectiva | BC12: Continuar con el reporte de seguimiento en la plataforma del DNP, conforme a la periodicidad establecida. Así mismo se recomienda, mejorar la redacción del riesgo toda vez que resulta redundante al no identificar con claridad la causa raíz. | BD12: 46289 | BJ12: 0.6666
A13: R.3 | B13: 1. Direccionamiento Estratégico y Planeación | C13: Posibilidad de afectación reputacional por Omisión en la entrega de reportes de ejecución y la no aplicación de las actividades y metas asociadas a las políticas públicas dentro de los plazos establecidos. a causa de Inexistencia de un sistema de planeación estratégica y de gestión de desempeño institucional que articule las políticas públicas con los planes operativos del IMCT | D13: 3 | E13: A1 | F13: 1) Monitoreo y seguimiento: Realizar el seguimiento y monitoreo continuo para evaluar periódicamente el cumplimiento de las políticas públicas y detectar posibles desviaciones. | G13: Matriz de seguimiento de políticas públicas actualizada. | H13: Dirección | I13: 46032 | J13: 46387 | K13: 46142 | L13: 46264 | M13: 46386 | N13: 30/04/2026 31/08/2026 31/12/2026 | O13: 30/04/2026 31/08/2026 31/12/2026 | P13: Semestral | Q13: Número | R13: 2 | S13: 0.005 | T13: 1 | U13: =IF(OR(S13="",S13=0,T13=""),"",MIN(T13/S13,1)) -> 1 | V13: =IF(OR(R13="",R13=0,T13=""),"",MIN(T13/R13,1)) -> 0.5 | W13: =IF(V13="","",IF(V13>=1,"Cumplida",IF(V13>0,"En ejecución","Pendiente"))) -> En ejecución | X13: Se realizo el seguimiento semestral de las politica públicas solicitadas al IMCT (PO PIIAFF, PO PP OSIG, PO PP JUVENTUD ) | Y13: Planes operativos de seguimiento | Z13: 46274 | AA13: 0.005 | AC13: =IF(OR(AA13="",AA13=0,AB13=""),"",MIN(AB13/AA13,1)) | AD13: =IF(AB13<>"",IF(OR(R13="",R13=0),"",MIN(IF(V13="",0,V13)+(AB13/R13),1)),IF(V13<>"",V13,"")) -> 0.5 | AE13: =IF(AD13="","",IF(AD13>=1,"Cumplida",IF(AD13>0,"En ejecución","Pendiente"))) -> En ejecución | AI13: Validada | AJ13: 0.5 | AK13: Se evidenció el seguimiento semestral de las politica públicas solicitadas al IMCT (PO PIIAFF, PO PP OSIG, PO PP JUVENTUD ). La evidencia revisada soporta un avance del 50.0%; el cumplimiento es parcial al corte. | AL13: Continuar con las actividades pendientes y actualizar en el siguiente corte únicamente los nuevos resultados y soportes. | AM13: 46286 | AN13: =IF(AJ13="","",IF(AJ13>=1,"Cumplida",IF(AJ13>0,"En ejecución","Pendiente"))) -> En ejecución | AT13: =IF(AP13="","",IF(AP13>=1,"Cumplida",IF(AP13>0,"En ejecución","Pendiente"))) | AU13: Cumplimiento del seguimiento a políticas públicas | AV13: Resultado = suma del avance acumulado validado de todas las actividades del riesgo ÷ total de actividades programadas del riesgo. Cada actividad tiene el mismo peso. | AW13: 1 | AX13: =IF((COUNT(AJ13,AP13)+COUNT(AJ14,AP14))=0,"",(MIN(SUM(AJ13,AP13),1)+MIN(SUM(AJ14,AP14),1))/2) -> 0.25 | AY13: =IF(AX13="","Sin medición",IF(AX13>=1,"Cumplido",IF(AX13>0,"En ejecución","Pendiente"))) -> En ejecución | AZ13: Se observo la Matriz de seguimiento semestral de las políticas públicas del IMCT (Primera Infancia, Adolescencia y Fortalecimiento Familiar 2019-2029) | BA13: Cumple | BB13: Efectiva | BC13: Continuar con el seguimiento a las políticas Públicas del Instituto Municipal de Cultura y Turismo de Bucaramanga, dentro de los plazos establecidos. | BD13: 46289 | BJ13: 0.5
A14: R.3 | B14: 1. Direccionamiento Estratégico y Planeación | C14: Posibilidad de afectación reputacional por Omisión en la entrega de reportes de ejecución y la no aplicación de las actividades y metas asociadas a las políticas públicas dentro de los plazos establecidos. a causa de Inexistencia de un sistema de planeación estratégica y de gestión de desempeño institucional que articule las políticas públicas con los planes operativos del IMCT | D14: 4 | E14: A2 | F14: 2) Informe semestral: Implementar un mecanismo de reporte periódico para evaluar el estado de cumplimiento y tomar medidas correctivas oportunas. | G14: Informe semestral de seguimiento al cumplimiento de las políticas públicas. | N14: 30/04/2026 31/08/2026 31/12/2026 | O14: 30/04/2026 31/08/2026 31/12/2026 | P14: Cuatrimestral | Q14: Número | R14: 1 | U14: =IF(OR(S14="",S14=0,T14=""),"",MIN(T14/S14,1)) | V14: =IF(OR(R14="",R14=0,T14=""),"",MIN(T14/R14,1)) | W14: =IF(V14="","",IF(V14>=1,"Cumplida",IF(V14>0,"En ejecución","Pendiente"))) | X14: N/A | Y14: N/A | AA14: 1 | AC14: =IF(OR(AA14="",AA14=0,AB14=""),"",MIN(AB14/AA14,1)) | AD14: =IF(AB14<>"",IF(OR(R14="",R14=0),"",MIN(IF(V14="",0,V14)+(AB14/R14),1)),IF(V14<>"",V14,"")) | AE14: =IF(AD14="","",IF(AD14>=1,"Cumplida",IF(AD14>0,"En ejecución","Pendiente"))) | AI14: No aplica en el periodo | AK14: La actividad no estaba programada para mayo–agosto, por lo que no se asigna avance en este corte. | AL14: Realizar la verificación en el periodo definido para su ejecución. | AM14: 46286 | AN14: =IF(AJ14="","",IF(AJ14>=1,"Cumplida",IF(AJ14>0,"En ejecución","Pendiente"))) | AT14: =IF(AP14="","",IF(AP14>=1,"Cumplida",IF(AP14>0,"En ejecución","Pendiente"))) | AZ14: N/A | BA14: No Aplica | BC14: Revisar la Periodicidad y la Meta de la acción, teniendo encuenta que es una actividad Semestral. | BD14: 46289 | BJ14: 0
A15: R.4 | B15: 1. Direccionamiento Estratégico y Planeación | C15: Posibilidad de afectación reputacional por Ausencia de un cronograma estructurado y retrasos o omisiones en la ejecución de las actividades programadas para el programa de cultura ciudadana. a causa de falta de metodologías estandarizadas para la estructuración de cronogramas y la asignación de responsables para las iniciativas del programa de cultura ciudadana. | D15: 5 | E15: A1 | F15: Profesional de cultura ciudadana 1) Realizar la implementación de un cronograma anual de las activiades a desarrollar dentro del proceso de cultura ciudada dentro del proyecto de promoción . Este planeación permite realizar un seguimiento continuo y efectivo de los avances y las actividades a desarrollar. | G15: Cronograma anual de actividades de Cultura Ciudadana elaborado y actualizado. | H15: Dirección | I15: 46032 | J15: 46387 | K15: 46142 | L15: 46264 | M15: 46386 | N15: 30/04/2026 31/08/2026 31/12/2026 | O15: 30/04/2026 31/08/2026 31/12/2026 | P15: Semestral | Q15: Número | R15: 2 | S15: 0.005 | T15: 1 | U15: =IF(OR(S15="",S15=0,T15=""),"",MIN(T15/S15,1)) -> 1 | V15: =IF(OR(R15="",R15=0,T15=""),"",MIN(T15/R15,1)) -> 0.5 | W15: =IF(V15="","",IF(V15>=1,"Cumplida",IF(V15>0,"En ejecución","Pendiente"))) -> En ejecución | X15: Se presenta Inform e consolidado de las activiades desarrolladas en el los meses de (mayo, junio, julio y agosto) de cultura ciudad ana dentro del proyecto (Desarrollo de agenda cultural, artística, turística y/o tradicional a través de la promoción de manifestaciones y actividades en la ciudad de Bucaramanga del programa de promoción) | Y15: Informe de cumplimiento de meta y avance del proyecto de inversión del programa de promoción | Z15: 46274 | AA15: 0.005 | AC15: =IF(OR(AA15="",AA15=0,AB15=""),"",MIN(AB15/AA15,1)) | AD15: =IF(AB15<>"",IF(OR(R15="",R15=0),"",MIN(IF(V15="",0,V15)+(AB15/R15),1)),IF(V15<>"",V15,"")) -> 0.5 | AE15: =IF(AD15="","",IF(AD15>=1,"Cumplida",IF(AD15>0,"En ejecución","Pendiente"))) -> En ejecución | AI15: Validada | AJ15: 0.5 | AK15: Se revisó el informe consolidado de las actividades de Cultura Ciudadana desarrolladas entre mayo y agosto dentro del proyecto de promoción. La evidencia aportada respalda un avance del 50%; el cumplimiento continúa parcial al corte. | AL15: Continuar con la ejecución prevista para el resto de la vigencia y actualizar el siguiente reporte con los resultados y soportes nuevos. | AM15: 46286 | AN15: =IF(AJ15="","",IF(AJ15>=1,"Cumplida",IF(AJ15>0,"En ejecución","Pendiente"))) -> En ejecución | AT15: =IF(AP15="","",IF(AP15>=1,"Cumplida",IF(AP15>0,"En ejecución","Pendiente"))) | AU15: Cumplimiento del cronograma de Cultura Ciudadana | AV15: Resultado = suma del avance acumulado validado de todas las actividades del riesgo ÷ total de actividades programadas del riesgo. Cada actividad tiene el mismo peso. | AW15: 1 | AX15: =IF((COUNT(AJ15,AP15))=0,"",(MIN(SUM(AJ15,AP15),1))/1) -> 0.5 | AY15: =IF(AX15="","Sin medición",IF(AX15>=1,"Cumplido",IF(AX15>0,"En ejecución","Pendiente"))) -> En ejecución | AZ15: Para la vigencia 2026 se proyectaron treinta (30) actividades culturales, artísticas y patrimoniales, evidenciando el Informe de seguimiento se ejecutaron diecinueve (19) actividades entre ellas: Día Internacional de la Cumbia, Día Del Periodista, Saludar con cultura, Día del Teatro: Formación en Escena, Radioton con la Cultural, Fiesta de la Lengua Española (día del idioma), Día internacional del circo, celebración del día del Niño “La Magia De Pinocho”, Encuentro de Danza y Cultura (Día de la Danza), Día de la Santandereanidad | BA15: Cumple | BB15: Efectiva | BC15: Revisar que haya coordinación entre la descripción de la acción, la periodicidad y la Meta de la acción, teniendo en cuenta que es una actividad Anual. Por otra parte, para el próximo seguimiento adjuntar el cronograma anual de las actividades programadas con el fin de evidenciar las actividades programadas Vs actividades ejecutadas. Así mismo se recomienda, mejorar la redacción del riesgo toda vez que resulta redundante al no identificar con claridad la causa raíz | BD15: 46289 | BJ15: 0.6333
A16: R.5 | B16: 2. Gestión de Comunicaciones - GC | C16: Posibilidad de perdida de confidencialidad por Divulgación de información institucional sin la adecuada revisión, verificación o validación previa. a causa de Desconocimiento o inaplicación del Manual de Comunicaciones y de los lineamientos establecidos para la gestión, validación y difusión de la información institucional. | D16: 6 | E16: A1 | F16: Socializar e implementar el Manual de Comunicaciones Internas y Externas del IMCT, asegurando que todos los funcionarios y contratistas conozcan y apliquen los lineamientos para el manejo, tratamiento y difusión de la información institucional. | G16: Registro de socialización e implementación del Manual de Comunicaciones (acta, listado de asistencia o soporte de divulgación). | H16: Subdirección Técnica Comunicaciones | I16: 46032 | J16: 46387 | K16: 46142 | L16: 46264 | M16: 46386 | N16: 30/04/2026 31/08/2026 31/12/2026 | O16: 30/04/2026 31/08/2026 31/12/2026 | P16: Semestral | Q16: Nùmero de actas o listado de asistencia | R16: 2 | S16: 1 | T16: 1 | U16: =IF(OR(S16="",S16=0,T16=""),"",MIN(T16/S16,1)) -> 1 | V16: =IF(OR(R16="",R16=0,T16=""),"",MIN(T16/R16,1)) -> 0.5 | W16: =IF(V16="","",IF(V16>=1,"Cumplida",IF(V16>0,"En ejecución","Pendiente"))) -> En ejecución | X16: Se realizò la socializaciòn del Manual de Comunicaciones el IMCT al interior de los contratistas del àrea y a cargo de dicho proceso. | Y16: Realización del Manual | Z16: 46235 | AA16: 1 | AC16: =IF(OR(AA16="",AA16=0,AB16=""),"",MIN(AB16/AA16,1)) | AD16: =IF(AB16<>"",IF(OR(R16="",R16=0),"",MIN(IF(V16="",0,V16)+(AB16/R16),1)),IF(V16<>"",V16,"")) -> 0.5 | AE16: =IF(AD16="","",IF(AD16>=1,"Cumplida",IF(AD16>0,"En ejecución","Pendiente"))) -> En ejecución | AI16: Validada | AJ16: 0.5 | AK16: Se evidenció la socialización del Manual de Comunicaciones el IMCT al interior de los contratistas del área y a cargo de dicho proceso. La evidencia revisada soporta un avance del 50.0%; el cumplimiento es parcial al corte. | AL16: Continuar con las actividades pendientes y actualizar en el siguiente corte únicamente los nuevos resultados y soportes. | AM16: 46286 | AN16: =IF(AJ16="","",IF(AJ16>=1,"Cumplida",IF(AJ16>0,"En ejecución","Pendiente"))) -> En ejecución | AT16: =IF(AP16="","",IF(AP16>=1,"Cumplida",IF(AP16>0,"En ejecución","Pendiente"))) | AU16: Cumplimiento de las acciones para el manejo y divulgación de la información institucional | AV16: Resultado = suma del avance acumulado validado de todas las actividades del riesgo ÷ total de actividades programadas del riesgo. Cada actividad tiene el mismo peso. | AW16: 1 | AX16: =IF((COUNT(AJ16,AP16)+COUNT(AJ17,AP17)+COUNT(AJ18,AP18)+COUNT(AJ19,AP19)+COUNT(AJ20,AP20))=0,"",(MIN(SUM(AJ16,AP16),1)+MIN(SUM(AJ17,AP17),1)+MIN(SUM(AJ18,AP18),1)+MIN(SUM(AJ19,AP19),1)+MIN(SUM(AJ20,AP20),1))/5) -> 0.6 | AY16: =IF(AX16="","Sin medición",IF(AX16>=1,"Cumplido",IF(AX16>0,"En ejecución","Pendiente"))) -> En ejecución | AZ16: Se evidenció el Manual de Identidad Visual de la Alcaldía de Bucaramanga 2024 y la implementación del Manual de Comunicaciones del Instituto Municipal de Cultura y Turismo de Bucaramanga 2026. Pero no se evidencia la socialización realizada. | BA16: Cumple Parcialmente | BB16: Parcialmente Efectiva | BC16: La Oficina Asesora de Control Interno recomienda dar cumplimiento a las acciones programadas, no se evidencian las listas de asistencia, registros fotográficos ni las filminas de la socialización. Por otra parte, se sugiere adoptar el manual realizado por la Alcaldía de Bucaramanga. | BD16: 46289 | BJ16: 0.25
A17: R.5 | B17: 2. Gestión de Comunicaciones - GC | C17: Posibilidad de perdida de confidencialidad por Divulgación de información institucional sin la adecuada revisión, verificación o validación previa. a causa de Desconocimiento o inaplicación del Manual de Comunicaciones y de los lineamientos establecidos para la gestión, validación y difusión de la información institucional. | D17: 7 | E17: A2 | F17: Promocionar y divulgar de manera oportuna y anticipada la información institucional relacionada con actividades, eventos, programas, campañas y convocatorias del IMCT, mediante los canales oficiales de la entidad (redes sociales, página web institucional, boletines de prensa y demás medios autorizados), garantizando el acceso a la información pública de conformidad con las normas de transparencia, acceso a la información y confidencialidad. | G17: Registro consolidado de publicaciones y divulgaciones realizadas en los canales oficiales del IMCT. | H17: Subdirección Técnica Comunicaciones | P17: Mensual | Q17: % | R17: 8 | S17: 4 | T17: 4 | U17: =IF(OR(S17="",S17=0,T17=""),"",MIN(T17/S17,1)) -> 1 | V17: =IF(OR(R17="",R17=0,T17=""),"",MIN(T17/R17,1)) -> 0.5 | W17: =IF(V17="","",IF(V17>=1,"Cumplida",IF(V17>0,"En ejecución","Pendiente"))) -> En ejecución | X17: Se socializò informaciòn institucional por medio de boletines de prensa, videos y piezas gràficas publicadas en redes sociales y/o pàgina web. | Y17: Informe de publicaciones mensual (mayo - agosto) | Z17: 46235 | AA17: 4 | AC17: =IF(OR(AA17="",AA17=0,AB17=""),"",MIN(AB17/AA17,1)) | AD17: =IF(AB17<>"",IF(OR(R17="",R17=0),"",MIN(IF(V17="",0,V17)+(AB17/R17),1)),IF(V17<>"",V17,"")) -> 0.5 | AE17: =IF(AD17="","",IF(AD17>=1,"Cumplida",IF(AD17>0,"En ejecución","Pendiente"))) -> En ejecución | AI17: Validada | AJ17: 0.5 | AK17: Se verificó la difusión de información institucional mediante boletines de prensa, videos y piezas gráficas publicadas en redes sociales y en la página web. Los soportes permiten validar el 100% previsto para el corte. | AL17: Conservar los informes de publicaciones y mantener el seguimiento periódico de los contenidos difundidos. | AM17: 46286 | AN17: =IF(AJ17="","",IF(AJ17>=1,"Cumplida",IF(AJ17>0,"En ejecución","Pendiente"))) -> En ejecución | AT17: =IF(AP17="","",IF(AP17>=1,"Cumplida",IF(AP17>0,"En ejecución","Pendiente"))) | AZ17: Se observó la promoción y divulgación de los boletines de prensa y la parrilla de comunicaciones, relacionada con actividades, eventos, programas, campañas y convocatorias programadas por el Instituto Municipal de Cultura y Turismo de Bucaramanga. | BA17: Cumple | BB17: Efectiva | BC17: Continuar realizando la divulgación de las actividades programadas en el Instituto Municipal de Cultura y Turismo de Bucaramanga en las redes sociales de la entidad. | BD17: 46289 | BJ17: 0.5
A18: R.5 | B18: 2. Gestión de Comunicaciones - GC | C18: Posibilidad de perdida de confidencialidad por Divulgación de información institucional sin la adecuada revisión, verificación o validación previa. a causa de Desconocimiento o inaplicación del Manual de Comunicaciones y de los lineamientos establecidos para la gestión, validación y difusión de la información institucional. | D18: 8 | E18: A3 | F18: Establecer un procedimiento de revisión, validación y aprobación de los contenidos institucionales antes de su publicación, asegurando que la información sea clara, veraz, oportuna y difundida únicamente a través de los canales oficiales autorizados por la entidad. | G18: Procedimiento o protocolo documentado de revisión, validación y aprobación de contenidos institucionales. | H18: Subdirección Técnica Comunicaciones | I18: 46032 | J18: 46387 | K18: 46142 | L18: 46264 | M18: 46386 | N18: 30/04/2026 31/08/2026 31/12/2026 | O18: 30/04/2026 31/08/2026 31/12/2026 | P18: Anual | Q18: Documento | R18: 1 | S18: 1 | T18: 1 | U18: =IF(OR(S18="",S18=0,T18=""),"",MIN(T18/S18,1)) -> 1 | V18: =IF(OR(R18="",R18=0,T18=""),"",MIN(T18/R18,1)) -> 1 | W18: =IF(V18="","",IF(V18>=1,"Cumplida",IF(V18>0,"En ejecución","Pendiente"))) -> Cumplida | X18: Se consolidò el procedimiento de programaciòn de parrilla con los contenidos a publicar de manera semanal, la cual permite revisar necesidades de difusiòn, revisar contenidos y aprobar contenidos a publicar. | Y18: Procedimiento documentado para publicaciones oficiales IMCT | Z18: 46235 | AA18: 0 | AC18: =IF(OR(AA18="",AA18=0,AB18=""),"",MIN(AB18/AA18,1)) | AD18: =IF(AB18<>"",IF(OR(R18="",R18=0),"",MIN(IF(V18="",0,V18)+(AB18/R18),1)),IF(V18<>"",V18,"")) -> 1 | AE18: =IF(AD18="","",IF(AD18>=1,"Cumplida",IF(AD18>0,"En ejecución","Pendiente"))) -> Cumplida | AI18: Validada | AJ18: 1 | AK18: Se verificó la consolidación del procedimiento para la programación semanal de la parrilla de contenidos, incluyendo la revisión de necesidades de difusión, contenidos y aprobación de publicaciones. La evidencia permite validar el 100% previsto para el corte. | AL18: Mantener la aplicación del procedimiento y conservar los registros que demuestren su uso. | AM18: 46286 | AN18: =IF(AJ18="","",IF(AJ18>=1,"Cumplida",IF(AJ18>0,"En ejecución","Pendiente"))) -> Cumplida | AT18: =IF(AP18="","",IF(AP18>=1,"Cumplida",IF(AP18>0,"En ejecución","Pendiente"))) | AZ18: Se evidenció el procedimiento para la elaboración, tratamiento y difusión de la información, el cual permite revisar necesidades de difusión, revisar contenidos y aprobar contenidos a publicar. | BA18: Cumple Parcialmente | BB18: Parcialmente Efectiva | BC18: Se recomienda finalizar el procedimiento de acuerdo con los lineamientos de Calidad con su respectiva codificación. | BD18: 46289 | BJ18: 0.5
A19: R.5 | B19: 2. Gestión de Comunicaciones - GC | C19: Posibilidad de perdida de confidencialidad por Divulgación de información institucional sin la adecuada revisión, verificación o validación previa. a causa de Desconocimiento o inaplicación del Manual de Comunicaciones y de los lineamientos establecidos para la gestión, validación y difusión de la información institucional. | D19: 9 | E19: A4 | F19: Realizar jornadas periódicas de capacitación y sensibilización dirigidas a funcionarios y contratistas sobre el uso adecuado de los canales institucionales, el manejo responsable de la información, la protección de datos personales y el cumplimiento de los lineamientos establecidos en el Manual de Comunicaciones. | G19: Registros de las jornadas de capacitación y sensibilización realizadas (listas de asistencia, presentaciones y/o actas). | H19: Subdirección Técnica Comunicaciones | I19: 46032 | J19: 46387 | K19: 46142 | L19: 46264 | M19: 46386 | N19: 30/04/2026 31/08/2026 31/12/2026 | O19: 30/04/2026 31/08/2026 31/12/2026 | P19: Semestral | Q19: Nùmero de actas o listado de asistencia | R19: 2 | S19: 1 | T19: 1 | U19: =IF(OR(S19="",S19=0,T19=""),"",MIN(T19/S19,1)) -> 1 | V19: =IF(OR(R19="",R19=0,T19=""),"",MIN(T19/R19,1)) -> 0.5 | W19: =IF(V19="","",IF(V19>=1,"Cumplida",IF(V19>0,"En ejecución","Pendiente"))) -> En ejecución | X19: Se realizò la socializaciòn del Manual de Comunicaciones el IMCT al interior de los contratistas del àrea y a cargo de dicho proceso. | Y19: Listado de asistencia capacitaciòn | Z19: 46235 | AA19: 1 | AC19: =IF(OR(AA19="",AA19=0,AB19=""),"",MIN(AB19/AA19,1)) | AD19: =IF(AB19<>"",IF(OR(R19="",R19=0),"",MIN(IF(V19="",0,V19)+(AB19/R19),1)),IF(V19<>"",V19,"")) -> 0.5 | AE19: =IF(AD19="","",IF(AD19>=1,"Cumplida",IF(AD19>0,"En ejecución","Pendiente"))) -> En ejecución | AI19: Validada | AJ19: 0.5 | AK19: Se evidenció la socialización del Manual de Comunicaciones el IMCT al interior de los contratistas del área y a cargo de dicho proceso. La evidencia revisada soporta un avance del 50.0%; el cumplimiento es parcial al corte. | AL19: Continuar con las actividades pendientes y actualizar en el siguiente corte únicamente los nuevos resultados y soportes. | AM19: 46286 | AN19: =IF(AJ19="","",IF(AJ19>=1,"Cumplida",IF(AJ19>0,"En ejecución","Pendiente"))) -> En ejecución | AT19: =IF(AP19="","",IF(AP19>=1,"Cumplida",IF(AP19>0,"En ejecución","Pendiente"))) | AZ19: No se evidenciaron soportes de esta actividad. | BA19: No Cumple | BB19: No Efectiva | BC19: La Oficina Asesora de Control Interno recomienda ejecutar la acción programada, o en su defecto adjuntar las evidencias realizadas. | BD19: 46289 | BJ19: 0
A20: R.5 | B20: 2. Gestión de Comunicaciones - GC | C20: Posibilidad de perdida de confidencialidad por Divulgación de información institucional sin la adecuada revisión, verificación o validación previa. a causa de Desconocimiento o inaplicación del Manual de Comunicaciones y de los lineamientos establecidos para la gestión, validación y difusión de la información institucional. | D20: 10 | E20: A5 | F20: Implementar mecanismos de seguimiento y control sobre las publicaciones institucionales y el cumplimiento de los lineamientos del Manual de Comunicaciones, con el fin de prevenir la difusión de información no autorizada y proteger la imagen y reputación institucional del IMCT. | G20: Matriz o informe de seguimiento y control de publicaciones institucionales y cumplimiento de lineamientos. | H20: Subdirección Técnica Comunicaciones | M20: 46386 | N20: 30/04/2026 31/08/2026 31/12/2026 | O20: 30/04/2026 31/08/2026 31/12/2026 | P20: Semestral | Q20: % | R20: 8 | S20: 4 | T20: 4 | U20: =IF(OR(S20="",S20=0,T20=""),"",MIN(T20/S20,1)) -> 1 | V20: =IF(OR(R20="",R20=0,T20=""),"",MIN(T20/R20,1)) -> 0.5 | W20: =IF(V20="","",IF(V20>=1,"Cumplida",IF(V20>0,"En ejecución","Pendiente"))) -> En ejecución | X20: Se realizò seguimiento a las publicaciones realizadas por el IMCT y se limitò el accceso o permisos para publicar, solo al personal coordinador del àrea. | Y20: Informe mensual de publicaciones | Z20: 46235 | AA20: 4 | AC20: =IF(OR(AA20="",AA20=0,AB20=""),"",MIN(AB20/AA20,1)) | AD20: =IF(AB20<>"",IF(OR(R20="",R20=0),"",MIN(IF(V20="",0,V20)+(AB20/R20),1)),IF(V20<>"",V20,"")) -> 0.5 | AE20: =IF(AD20="","",IF(AD20>=1,"Cumplida",IF(AD20>0,"En ejecución","Pendiente"))) -> En ejecución | AI20: Validada | AJ20: 0.5 | AK20: Se verificó el seguimiento a las publicaciones institucionales y la restricción de permisos de publicación al personal autorizado del área. La evidencia aportada permite validar el 100% previsto para el corte. | AL20: Mantener el control de accesos y conservar los reportes de seguimiento a las publicaciones. | AM20: 46286 | AN20: =IF(AJ20="","",IF(AJ20>=1,"Cumplida",IF(AJ20>0,"En ejecución","Pendiente"))) -> En ejecución | AT20: =IF(AP20="","",IF(AP20>=1,"Cumplida",IF(AP20>0,"En ejecución","Pendiente"))) | AZ20: Se evidencia el seguimiento de la ejecución de la publicación de contenidos programáticos. | BA20: Cumple | BB20: Parcialmente Efectiva | BC20: La Oficina Asesora de Control Interno recomienda que los informes realizados tengas métricas y/o indicadores de eficiencia operativa. (cuantas personas interactúan, publico objetivo, cuantas vistas tenemos en la página, video más viral) | BD20: 46289 | BJ20: 0.5
A21: R.6 | B21: 2. Gestión de Comunicaciones - GC | C21: Posibilidad de pérdida reputacional por Fallas, deterioro u obsolescencia de los equipos tecnológicos y audiovisuales utilizados para la gestión de comunicaciones. a causa de Insuficiente disponibilidad de recursos para la renovación, reposición y mantenimiento oportuno de los equipos. | D21: 11 | E21: A1 | F21: Elaborar y actualizar anualmente el diagnóstico de necesidades tecnológicas del área de Comunicaciones, identificando los equipos, herramientas, software y recursos técnicos requeridos para la producción y difusión de contenidos institucionales. | G21: Diagnóstico anual de necesidades tecnológicas del área de Comunicaciones. | H21: Subdirección Técnica Comunicaciones | I21: 46032 | J21: 46387 | K21: 46142 | L21: 46264 | M21: 46386 | N21: 30/04/2026 31/08/2026 31/12/2026 | O21: 30/04/2026 31/08/2026 31/12/2026 | P21: Anual | Q21: Documento diagnòstico | R21: 1 | S21: 1 | T21: 1 | U21: =IF(OR(S21="",S21=0,T21=""),"",MIN(T21/S21,1)) -> 1 | V21: =IF(OR(R21="",R21=0,T21=""),"",MIN(T21/R21,1)) -> 1 | W21: =IF(V21="","",IF(V21>=1,"Cumplida",IF(V21>0,"En ejecución","Pendiente"))) -> Cumplida | X21: Se hizo el requerimiento tècnico de necesidades y el estudio previo para la formulaciòn del proceso contrato mantenimiento de la emisora cultural. | Y21: Requerimiento tècnico para el contrato de mantenimiento emisora cultural | Z21: 46235 | AC21: =IF(OR(AA21="",AA21=0,AB21=""),"",MIN(AB21/AA21,1)) | AD21: =IF(AB21<>"",IF(OR(R21="",R21=0),"",MIN(IF(V21="",0,V21)+(AB21/R21),1)),IF(V21<>"",V21,"")) -> 1 | AE21: =IF(AD21="","",IF(AD21>=1,"Cumplida",IF(AD21>0,"En ejecución","Pendiente"))) -> Cumplida | AI21: Validada | AJ21: 1 | AK21: Se verificó el requerimiento técnico de necesidades y el estudio previo para la formulación del proceso contrato mantenimiento de la emisora cultural. Los soportes aportados son consistentes con lo reportado y permiten validar el 100% previsto para el corte. | AL21: Conservar la evidencia y continuar el seguimiento conforme a la periodicidad establecida. | AM21: 46286 | AN21: =IF(AJ21="","",IF(AJ21>=1,"Cumplida",IF(AJ21>0,"En ejecución","Pendiente"))) -> Cumplida | AT21: =IF(AP21="","",IF(AP21>=1,"Cumplida",IF(AP21>0,"En ejecución","Pendiente"))) | AU21: Cumplimiento de las acciones para la gestión de equipos tecnológicos y audiovisuales | AV21: Resultado = suma del avance acumulado validado de todas las actividades del riesgo ÷ total de actividades programadas del riesgo. Cada actividad tiene el mismo peso. | AW21: 1 | AX21: =IF((COUNT(AJ21,AP21)+COUNT(AJ22,AP22)+COUNT(AJ23,AP23)+COUNT(AJ24,AP24))=0,"",(MIN(SUM(AJ21,AP21),1)+MIN(SUM(AJ22,AP22),1)+MIN(SUM(AJ23,AP23),1)+MIN(SUM(AJ24,AP24),1))/4) -> 1 | AY21: =IF(AX21="","Sin medición",IF(AX21>=1,"Cumplido",IF(AX21>0,"En ejecución","Pendiente"))) -> Cumplido | AZ21: Se evidencian los requerimiento tècnico de necesidades para elaborar los estudio previo para la formulaciòn del proceso contractual del mantenimiento de la emisora cultural; pero no se evidencia el diagnóstico de necesidades tecnológicas del área de Comunicaciones, identificando los equipos, herramientas, software y recursos técnicos requeridos para la producción y difusión de contenidos institucionales. | BA21: Cumple | BB21: Parcialmente Efectiva | BC21: La Oficina Asesora de Control Interno recomienda realizar el diagnóstico de necesidades tecnológicas del área de Comunicaciones, identificando los equipos, herramientas, software y recursos técnicos requeridos para la producción y difusión de contenidos institucionales. | BD21: 46289 | BJ21: 0.5
A22: R.6 | B22: 2. Gestión de Comunicaciones - GC | C22: Posibilidad de pérdida reputacional por Fallas, deterioro u obsolescencia de los equipos tecnológicos y audiovisuales utilizados para la gestión de comunicaciones. a causa de Insuficiente disponibilidad de recursos para la renovación, reposición y mantenimiento oportuno de los equipos. | D22: 12 | E22: A2 | F22: Gestionar la inclusión de recursos en el presupuesto institucional para la adquisición, actualización, modernización y mantenimiento preventivo y correctivo de los equipos tecnológicos y audiovisuales utilizados en las comunicaciones externas del IMCT. | G22: Solicitud o requerimiento de necesidades tecnológicas y presupuestales presentado al área competente, con soporte de gestión. | H22: Subdirección Técnica Comunicaciones | I22: 46032 | J22: 46387 | K22: 46142 | L22: 46264 | M22: 46386 | N22: 30/04/2026 31/08/2026 31/12/2026 | O22: 30/04/2026 31/08/2026 31/12/2026 | P22: Anual | Q22: Documento solicitud necesidades | R22: 1 | S22: 1 | T22: 1 | U22: =IF(OR(S22="",S22=0,T22=""),"",MIN(T22/S22,1)) -> 1 | V22: =IF(OR(R22="",R22=0,T22=""),"",MIN(T22/R22,1)) -> 1 | W22: =IF(V22="","",IF(V22>=1,"Cumplida",IF(V22>0,"En ejecución","Pendiente"))) -> Cumplida | X22: Se hizo asignaciòn de presupuesto para realizar el mantenimiento emisora, proyecto comunicaciones. | Y22: Registro presupuestal, contrato de mantenimiento emisora | Z22: 46235 | AC22: =IF(OR(AA22="",AA22=0,AB22=""),"",MIN(AB22/AA22,1)) | AD22: =IF(AB22<>"",IF(OR(R22="",R22=0),"",MIN(IF(V22="",0,V22)+(AB22/R22),1)),IF(V22<>"",V22,"")) -> 1 | AE22: =IF(AD22="","",IF(AD22>=1,"Cumplida",IF(AD22>0,"En ejecución","Pendiente"))) -> Cumplida | AI22: Validada | AJ22: 1 | AK22: Se verificó la asignación presupuestal destinada al mantenimiento de la emisora y al proyecto de comunicaciones. Los soportes presupuestales y contractuales permiten validar el 100% previsto para el corte. | AL22: Conservar los soportes presupuestales y realizar seguimiento a la ejecución de los recursos asignados. | AM22: 46286 | AN22: =IF(AJ22="","",IF(AJ22>=1,"Cumplida",IF(AJ22>0,"En ejecución","Pendiente"))) -> Cumplida | AT22: =IF(AP22="","",IF(AP22>=1,"Cumplida",IF(AP22>0,"En ejecución","Pendiente"))) | AZ22: Se adjudico el contrato 0418 de 11 de junio de 2026 para prestar los servicios de mantenimiento y soporte técnico en la emisora. | BA22: Cumple | BB22: Efectiva | BC22: Continuar con la ejecución del contrato. | BD22: 46289 | BJ22: 1
A23: R.6 | B23: 2. Gestión de Comunicaciones - GC | C23: Posibilidad de pérdida reputacional por Fallas, deterioro u obsolescencia de los equipos tecnológicos y audiovisuales utilizados para la gestión de comunicaciones. a causa de Insuficiente disponibilidad de recursos para la renovación, reposición y mantenimiento oportuno de los equipos. | D23: 13 | E23: A3 | F23: Implementar un plan de mantenimiento y renovación tecnológica, que permita garantizar el funcionamiento continuo de cámaras, computadores, equipos audiovisuales, software especializado y demás herramientas necesarias para la generación y publicación de contenidos. | G23: Plan de mantenimiento y renovación tecnológica elaborado y actualizado, con registros de las actividades ejecutadas. | H23: Subdirección Técnica Comunicaciones | I23: 46032 | J23: 46387 | K23: 46142 | L23: 46264 | M23: 46386 | N23: 30/04/2026 31/08/2026 31/12/2026 | O23: 30/04/2026 31/08/2026 31/12/2026 | P23: Anual | Q23: Documento plan | R23: 1 | S23: 1 | T23: 1 | U23: =IF(OR(S23="",S23=0,T23=""),"",MIN(T23/S23,1)) -> 1 | V23: =IF(OR(R23="",R23=0,T23=""),"",MIN(T23/R23,1)) -> 1 | W23: =IF(V23="","",IF(V23>=1,"Cumplida",IF(V23>0,"En ejecución","Pendiente"))) -> Cumplida | X23: Se viene dando cumplimiento al contrato de mantenimiento de la emisora y los contratos de servicios software (aplicaciones y redes) necesarias para la difusiòn de la informaciòn institucionall. | Y23: Cuadro de pagos y contratos que permiten la operaciòn de las redes y medios de comunicaciòn institucional. Requerimientos tècnicos contrataciones STREAMING, ADAS, CREATIVE CLOUD Y PLATAFORMAS DIGITALES. | Z23: 46235 | AC23: =IF(OR(AA23="",AA23=0,AB23=""),"",MIN(AB23/AA23,1)) | AD23: =IF(AB23<>"",IF(OR(R23="",R23=0),"",MIN(IF(V23="",0,V23)+(AB23/R23),1)),IF(V23<>"",V23,"")) -> 1 | AE23: =IF(AD23="","",IF(AD23>=1,"Cumplida",IF(AD23>0,"En ejecución","Pendiente"))) -> Cumplida | AI23: Validada | AJ23: 1 | AK23: Se evidenció avance en la ejecución del contrato de mantenimiento de la emisora y de los servicios de software requeridos para la operación de aplicaciones y redes de comunicaciones. Los soportes permiten validar el 100% previsto para el corte. | AL23: Continuar el seguimiento contractual y conservar los soportes de ejecución y pagos correspondientes. | AM23: 46286 | AN23: =IF(AJ23="","",IF(AJ23>=1,"Cumplida",IF(AJ23>0,"En ejecución","Pendiente"))) -> Cumplida | AT23: =IF(AP23="","",IF(AP23>=1,"Cumplida",IF(AP23>0,"En ejecución","Pendiente"))) | AZ23: No se evidencia la Implementación del plan de mantenimiento y renovación tecnológica | BA23: Cumple Parcialmente | BB23: Parcialmente Efectiva | BC23: La Oficina Asesora de Control Interno recomienda adjuntar el Plan de Mantenimiento y Renovación Tecnológica o en su defecto el contrato 0418 con su respetivo plan de Mantenimiento. | BD23: 46289 | BJ23: 0.5
A24: R.6 | B24: 2. Gestión de Comunicaciones - GC | C24: Posibilidad de pérdida reputacional por Fallas, deterioro u obsolescencia de los equipos tecnológicos y audiovisuales utilizados para la gestión de comunicaciones. a causa de Insuficiente disponibilidad de recursos para la renovación, reposición y mantenimiento oportuno de los equipos. | D24: 14 | E24: A4 | F24: Realizar seguimiento periódico al estado y disponibilidad de los equipos y recursos tecnológicos, documentando las necesidades de reposición, actualización o reparación y reportándolas oportunamente a las áreas competentes para asegurar la continuidad de los procesos de comunicación y el acceso oportuno de la ciudadanía a la información institucional. | G24: Matriz de seguimiento del estado de los equipos, con registro de necesidades de mantenimiento, reparación, actualización o reposición. | H24: Subdirección Técnica Comunicaciones | I24: 46032 | J24: 46387 | K24: 46142 | L24: 46264 | M24: 46386 | N24: 30/04/2026 31/08/2026 31/12/2026 | O24: 30/04/2026 31/08/2026 31/12/2026 | P24: Anual | Q24: Matriz seguimiento | R24: 2 | S24: 2 | T24: 2 | U24: =IF(OR(S24="",S24=0,T24=""),"",MIN(T24/S24,1)) -> 1 | V24: =IF(OR(R24="",R24=0,T24=""),"",MIN(T24/R24,1)) -> 1 | W24: =IF(V24="","",IF(V24>=1,"Cumplida",IF(V24>0,"En ejecución","Pendiente"))) -> Cumplida | X24: Se ha ejecutado el contrato de mantenimiento de la emisora, respondiendo a las necesidades diagnosticadas. | Y24: Acta de inicio | Z24: 46235 | AC24: =IF(OR(AA24="",AA24=0,AB24=""),"",MIN(AB24/AA24,1)) | AD24: =IF(AB24<>"",IF(OR(R24="",R24=0),"",MIN(IF(V24="",0,V24)+(AB24/R24),1)),IF(V24<>"",V24,"")) -> 1 | AE24: =IF(AD24="","",IF(AD24>=1,"Cumplida",IF(AD24>0,"En ejecución","Pendiente"))) -> Cumplida | AI24: Validada | AJ24: 1 | AK24: Se evidenció la ejecución del contrato de mantenimiento de la emisora para atender las necesidades técnicas previamente identificadas. La documentación aportada permite validar el 100% previsto para el corte. | AL24: Mantener el seguimiento al contrato y conservar los informes o actas que evidencien las intervenciones realizadas. | AM24: 46286 | AN24: =IF(AJ24="","",IF(AJ24>=1,"Cumplida",IF(AJ24>0,"En ejecución","Pendiente"))) -> Cumplida | AT24: =IF(AP24="","",IF(AP24>=1,"Cumplida",IF(AP24>0,"En ejecución","Pendiente"))) | AZ24: No se evidencia la matriz de seguimiento del estado de los equipos, con registro de necesidades de mantenimiento, reparación, actualización o reposición. | BA24: Cumple Parcialmente | BB24: Parcialmente Efectiva | BC24: La Oficina Asesora de Control Interno recomienda adjuntar la Matriz de seguimiento del estado de los equipos tal como lo indica la descripción de la acción | BD24: 46289 | BJ24: 0.5
A25: R.7 | B25: 3. Gestión Integral | C25: Posibilidad de afectación reputacional por Uso de documentos e información de seguimiento desactualizados frente a las condiciones actuales de los procesos a causa de Bajo nivel de autocontrol de los líderes de proceso para revisar y mantener actualizada la información a su cargo | D25: 15 | E25: A1 | F25: Revisar y actualizar el listado maestro de documentos, identificando documentos que requieran modificación, actualización o retiro, y gestionar los ajustes correspondientes con los líderes de proceso. | G25: Listado maestro actualizado y registro de inconsistencias gestionadas. | H25: Dirección Subdirección Técnica Profesional responsable de MIPG y Calidad | I25: 46032 | J25: 46387 | K25: 46142 | L25: 46264 | M25: 46386 | N25: 30/04/2026 31/08/2026 31/12/2026 | O25: 30/04/2026 31/08/2026 31/12/2026 | P25: Cuatrimestral | Q25: # | R25: 2 | S25: 1 | T25: 1 | U25: =IF(OR(S25="",S25=0,T25=""),"",MIN(T25/S25,1)) -> 1 | V25: =IF(OR(R25="",R25=0,T25=""),"",MIN(T25/R25,1)) -> 0.5 | W25: =IF(V25="","",IF(V25>=1,"Cumplida",IF(V25>0,"En ejecución","Pendiente"))) -> En ejecución | X25: Durante el periodo se realizó la revisión y actualización del Listado Maestro de Documentos, verificando la correspondencia de los documentos con los procesos vigentes, códigos, versiones y estado documental. Como resultado de la revisión se identificaron documentos que requerían actualización, ajuste o retiro y se gestionaron las observaciones con los responsables de los procesos para mantener actualizada la información del Sistema de Gestión de la Calidad. | Y25: Listado Maestro de Documentos actualizado. | Z25: 46273 | AA25: 1 | AC25: =IF(OR(AA25="",AA25=0,AB25=""),"",MIN(AB25/AA25,1)) | AD25: =IF(AB25<>"",IF(OR(R25="",R25=0),"",MIN(IF(V25="",0,V25)+(AB25/R25),1)),IF(V25<>"",V25,"")) -> 0.5 | AE25: =IF(AD25="","",IF(AD25>=1,"Cumplida",IF(AD25>0,"En ejecución","Pendiente"))) -> En ejecución | AF25: =IF(AE25="","",IF(AE25>=1,"Cumplida",IF(AE25>0,"En ejecución","Pendiente"))) -> Cumplida | AI25: Validada | AJ25: 0.5 | AK25: Se constató que durante el periodo se realizó la revisión y actualización del Listado Maestro de Documentos, verificando la correspondencia de los documentos con los procesos vigentes, códigos, versiones y estado documental. Como resultado de la revisión se identificaron documentos que requerían actualización, ajuste o retiro y se gestionaron las observaciones con los responsables de los…. La evidencia revisada soporta un avance del 50.0%; el cumplimiento es parcial al corte. | AL25: Continuar con las actividades pendientes y actualizar en el siguiente corte únicamente los nuevos resultados y soportes. | AM25: 46286 | AN25: =IF(AJ25="","",IF(AJ25>=1,"Cumplida",IF(AJ25>0,"En ejecución","Pendiente"))) -> En ejecución | AT25: =IF(AP25="","",IF(AP25>=1,"Cumplida",IF(AP25>0,"En ejecución","Pendiente"))) | AU25: Cumplimiento de las acciones de actualización y seguimiento del SGC | AV25: Resultado = suma del avance acumulado validado de todas las actividades del riesgo ÷ total de actividades programadas del riesgo. Cada actividad tiene el mismo peso. | AW25: 1 | AX25: =IF((COUNT(AJ25,AP25)+COUNT(AJ26,AP26)+COUNT(AJ27,AP27)+COUNT(AJ28,AP28)+COUNT(AJ29,AP29))=0,"",(MIN(SUM(AJ25,AP25),1)+MIN(SUM(AJ26,AP26),1)+MIN(SUM(AJ27,AP27),1)+MIN(SUM(AJ28,AP28),1)+MIN(SUM(AJ29,AP29),1))/5) -> 0.48666667 | AY25: =IF(AX25="","Sin medición",IF(AX25>=1,"Cumplido",IF(AX25>0,"En ejecución","Pendiente"))) -> En ejecución | AZ25: Se observo la revisión y actualización del Listado Maestro de Documentos, evidenciando los ajustes a los documentos que requerían actualización. | BA25: Cumple | BB25: Efectiva | BC25: La Oficina Asesora de Control Interno recomienda validar la Unidad de Medida de la Acción. | BD25: 46289 | BJ25: 0.5
A26: R.7 | B26: 3. Gestión Integral | C26: Posibilidad de afectación reputacional por Uso de documentos e información de seguimiento desactualizados frente a las condiciones actuales de los procesos a causa de Bajo nivel de autocontrol de los líderes de proceso para revisar y mantener actualizada la información a su cargo | D26: 16 | E26: A2 | F26: Aplicar el formato GI-F-71 “Control, Revisión y Aprobación de Documentos” a las solicitudes de creación, modificación, actualización o eliminación documental tramitadas durante la vigencia. | G26: Formatos GI-F-71 diligenciados correspondientes a las solicitudes tramitadas. | H26: Dirección Subdirección Técnica Profesional responsable de MIPG y Calidad | I26: 46032 | J26: 46387 | K26: 46142 | L26: 46264 | M26: 46386 | N26: 30/04/2026 31/08/2026 31/12/2026 | O26: 30/04/2026 31/08/2026 31/12/2026 | P26: Según solicitud | Q26: # | R26: 1 | S26: 26 | T26: 26 | U26: =IF(OR(S26="",S26=0,T26=""),"",MIN(T26/S26,1)) -> 1 | V26: =IF(OR(R26="",R26=0,T26=""),"",MIN(T26/R26,1)) -> 1 | W26: =IF(V26="","",IF(V26>=1,"Cumplida",IF(V26>0,"En ejecución","Pendiente"))) -> Cumplida | X26: Se efectuó la revisión y validación de las solicitudes de creación, modificación, actualización o eliminación de documentos recibidas durante el periodo, aplicando el formato GI-F-71 como mecanismo de control previo a su aprobación y publicación en el repositorio institucional. | Y26: Formatos GI-F-71 diligenciados correspondientes a las solicitudes tramitadas | Z26: 46273 | AA26: 34 | AC26: =IF(OR(AA26="",AA26=0,AB26=""),"",MIN(AB26/AA26,1)) | AD26: =IF(AB26<>"",IF(OR(R26="",R26=0),"",MIN(IF(V26="",0,V26)+(AB26/R26),1)),IF(V26<>"",V26,"")) -> 1 | AE26: =IF(AD26="","",IF(AD26>=1,"Cumplida",IF(AD26>0,"En ejecución","Pendiente"))) -> Cumplida | AF26: =IF(AE26="","",IF(AE26>=1,"Cumplida",IF(AE26>0,"En ejecución","Pendiente"))) -> Cumplida | AI26: Validada | AJ26: 0.43333333 | AK26: Se verificó la revisión y validación de las solicitudes de creación, modificación, actualización o eliminación de documentos recibidas durante el periodo, aplicando el formato GI-F-71 como mecanismo de control previo a su aprobación y publicación en el repositorio institucional. La evidencia revisada soporta un avance del 43.3%; el cumplimiento es parcial al corte. | AL26: Continuar con las actividades pendientes y actualizar en el siguiente corte únicamente los nuevos resultados y soportes. | AM26: 46286 | AN26: =IF(AJ26="","",IF(AJ26>=1,"Cumplida",IF(AJ26>0,"En ejecución","Pendiente"))) -> En ejecución | AT26: =IF(AP26="","",IF(AP26>=1,"Cumplida",IF(AP26>0,"En ejecución","Pendiente"))) | AZ26: Se evidencia la implementación del formato GI-F-71 “Control, Revisión y Aprobación de Documentos” como mecanismo de control previo a su aprobación y publicación. De igual manera el formato Gl-F-70 "Solicitud de Creación, Modificación o Eliminación de Documentos" esta siendo implementado por la entidad. | BA26: Cumple | BB26: Efectiva | BC26: La Oficina Asesora de Control Interno recomienda validar la Unidad de Medida de la Acción. | BD26: 46289 | BJ26: 1
A27: R.7 | B27: 3. Gestión Integral | C27: Posibilidad de afectación reputacional por Uso de documentos e información de seguimiento desactualizados frente a las condiciones actuales de los procesos a causa de Bajo nivel de autocontrol de los líderes de proceso para revisar y mantener actualizada la información a su cargo | D27: 17 | E27: A3 | F27: Realizar seguimiento al estado de los indicadores de gestión de los procesos, identificando desviaciones, inconsistencias o necesidades de ajuste en la información reportada. | G27: Informe diagnóstico de indicadores y matriz consolidada de resultados. | H27: Dirección Subdirección Técnica Profesional responsable de MIPG y Calidad | I27: 46032 | J27: 46387 | K27: 46142 | L27: 46264 | M27: 46386 | N27: 30/04/2026 31/08/2026 31/12/2026 | O27: 30/04/2026 31/08/2026 31/12/2026 | P27: Semestral | Q27: # | R27: 2 | S27: 1 | T27: 1 | U27: =IF(OR(S27="",S27=0,T27=""),"",MIN(T27/S27,1)) -> 1 | V27: =IF(OR(R27="",R27=0,T27=""),"",MIN(T27/R27,1)) -> 0.5 | W27: =IF(V27="","",IF(V27>=1,"Cumplida",IF(V27>0,"En ejecución","Pendiente"))) -> En ejecución | X27: Se realizó la revisión y consolidación de los indicadores de gestión reportados por los procesos, verificando el resultado alcanzado frente a la meta programada, la coherencia de la información registrada y los soportes aportados. | Y27: Matriz institucional de indicadores consolidada. Fichas técnicas de indicadores revisadas. Informe o reporte de seguimiento. | Z27: 46273 | AA27: 1 | AC27: =IF(OR(AA27="",AA27=0,AB27=""),"",MIN(AB27/AA27,1)) | AD27: =IF(AB27<>"",IF(OR(R27="",R27=0),"",MIN(IF(V27="",0,V27)+(AB27/R27),1)),IF(V27<>"",V27,"")) -> 0.5 | AE27: =IF(AD27="","",IF(AD27>=1,"Cumplida",IF(AD27>0,"En ejecución","Pendiente"))) -> En ejecución | AF27: =IF(AE27="","",IF(AE27>=1,"Cumplida",IF(AE27>0,"En ejecución","Pendiente"))) -> Cumplida | AI27: Validada | AJ27: 0.5 | AK27: Se verificó la revisión y consolidación de los indicadores de gestión reportados por los procesos, verificando el resultado alcanzado frente a la meta programada, la coherencia de la información registrada y los soportes aportados. La evidencia revisada soporta un avance del 50.0%; el cumplimiento es parcial al corte. | AL27: Continuar con las actividades pendientes y actualizar en el siguiente corte únicamente los nuevos resultados y soportes. | AM27: 46286 | AN27: =IF(AJ27="","",IF(AJ27>=1,"Cumplida",IF(AJ27>0,"En ejecución","Pendiente"))) -> En ejecución | AT27: =IF(AP27="","",IF(AP27>=1,"Cumplida",IF(AP27>0,"En ejecución","Pendiente"))) | AZ27: Se evidencia el informe del primer semestre con un avance de cumplimiento del 87,6% | BA27: Cumple | BB27: Efectiva | BC27: La Oficina Asesora de Control Interno recomienda validar la Unidad de Medida de la Acción. | BD27: 46289 | BJ27: 0.5
A28: R.7 | B28: 3. Gestión Integral | C28: Posibilidad de afectación reputacional por Uso de documentos e información de seguimiento desactualizados frente a las condiciones actuales de los procesos a causa de Bajo nivel de autocontrol de los líderes de proceso para revisar y mantener actualizada la información a su cargo | D28: 18 | E28: A4 | F28: Realizar jornadas de orientación y asistencia técnica a los líderes de proceso sobre sus responsabilidades de autocontrol frente al mantenimiento y mejora del Sistema de Gestión de la Calidad. | G28: Registros de jornadas de orientación y listas de asistencia. | H28: Dirección Subdirección Técnica Profesional responsable de MIPG y Calidad | I28: 46032 | J28: 46387 | K28: 46142 | L28: 46264 | M28: 46386 | N28: 30/04/2026 31/08/2026 31/12/2026 | O28: 30/04/2026 31/08/2026 31/12/2026 | P28: Trimestral | Q28: # | R28: 4 | S28: 2 | T28: 2 | U28: =IF(OR(S28="",S28=0,T28=""),"",MIN(T28/S28,1)) -> 1 | V28: =IF(OR(R28="",R28=0,T28=""),"",MIN(T28/R28,1)) -> 0.5 | W28: =IF(V28="","",IF(V28>=1,"Cumplida",IF(V28>0,"En ejecución","Pendiente"))) -> En ejecución | X28: Se brindó orientación y acompañamiento técnico a los líderes y responsables de los procesos frente a sus responsabilidades dentro del Sistema de Gestión de la Calidad, especialmente en temas relacionados con control documental, actualización de documentos, utilización del repositorio institucional, reporte de información y autocontrol. | Y28: Presentaciones utilizadas en las jornadas. Listados o registros de asistencia. Actas de mesas de trabajo. Correos de convocatoria y acompañamiento técnico. | Z28: 46273 | AA28: 2 | AC28: =IF(OR(AA28="",AA28=0,AB28=""),"",MIN(AB28/AA28,1)) | AD28: =IF(AB28<>"",IF(OR(R28="",R28=0),"",MIN(IF(V28="",0,V28)+(AB28/R28),1)),IF(V28<>"",V28,"")) -> 0.5 | AE28: =IF(AD28="","",IF(AD28>=1,"Cumplida",IF(AD28>0,"En ejecución","Pendiente"))) -> En ejecución | AF28: =IF(AE28="","",IF(AE28>=1,"Cumplida",IF(AE28>0,"En ejecución","Pendiente"))) -> Cumplida | AI28: Validada | AJ28: 0.5 | AK28: Se evidenció orientación y acompañamiento técnico a los líderes y responsables de los procesos frente a sus responsabilidades dentro del Sistema de Gestión de la Calidad, especialmente en temas relacionados con control documental, actualización de documentos, utilización del repositorio institucional, reporte de información y autocontrol. La evidencia revisada soporta un avance del 50.0%; el cumplimiento es parcial al corte. | AL28: Continuar con las actividades pendientes y actualizar en el siguiente corte únicamente los nuevos resultados y soportes. | AM28: 46286 | AN28: =IF(AJ28="","",IF(AJ28>=1,"Cumplida",IF(AJ28>0,"En ejecución","Pendiente"))) -> En ejecución | AT28: =IF(AP28="","",IF(AP28>=1,"Cumplida",IF(AP28>0,"En ejecución","Pendiente"))) | AZ28: Se evidencia que el día 04 de agosto y 29 de julio se realizaron socializaciones frente al autocontrol, mantenimiento y mejora del Sistema de Gestión de la Calidad. | BA28: Cumple | BB28: Efectiva | BC28: La Oficina Asesora de Control Interno recomienda validar la Unidad de Medida de la Acción. De igual manera se sugiere continuar con actividades de autocontrol frente al mantenimiento y mejora del Sistema de Gestión de la Calidad | BD28: 46289 | BJ28: 0.5
